BEGIN:VCALENDAR
VERSION:2.0
PRODID:-//The New Territory Magazine - ECPv6.15.16//NONSGML v1.0//EN
CALSCALE:GREGORIAN
METHOD:PUBLISH
X-ORIGINAL-URL:http://newterritorymag.com
X-WR-CALDESC:Events for The New Territory Magazine
REFRESH-INTERVAL;VALUE=DURATION:PT1H
X-Robots-Tag:noindex
X-PUBLISHED-TTL:PT1H
BEGIN:VTIMEZONE
TZID:America/Chicago
BEGIN:DAYLIGHT
TZOFFSETFROM:-0600
TZOFFSETTO:-0500
TZNAME:CDT
DTSTART:20230312T080000
END:DAYLIGHT
BEGIN:STANDARD
TZOFFSETFROM:-0500
TZOFFSETTO:-0600
TZNAME:CST
DTSTART:20231105T070000
END:STANDARD
BEGIN:DAYLIGHT
TZOFFSETFROM:-0600
TZOFFSETTO:-0500
TZNAME:CDT
DTSTART:20240310T080000
END:DAYLIGHT
BEGIN:STANDARD
TZOFFSETFROM:-0500
TZOFFSETTO:-0600
TZNAME:CST
DTSTART:20241103T070000
END:STANDARD
BEGIN:DAYLIGHT
TZOFFSETFROM:-0600
TZOFFSETTO:-0500
TZNAME:CDT
DTSTART:20250309T080000
END:DAYLIGHT
BEGIN:STANDARD
TZOFFSETFROM:-0500
TZOFFSETTO:-0600
TZNAME:CST
DTSTART:20251102T070000
END:STANDARD
END:VTIMEZONE
BEGIN:VEVENT
DTSTART;TZID=America/Chicago:20240427T100000
DTEND;TZID=America/Chicago:20240427T160000
DTSTAMP:20260423T154145
CREATED:20240416T221315Z
LAST-MODIFIED:20240425T172700Z
UID:10544-1714212000-1714233600@newterritorymag.com
SUMMARY:New Territory Magazine and River Town Podcast Table at the Birds\, Bees & Blooms Festival
DESCRIPTION:Join us at our table for the village of Arrow Rock’s Birds\, Bees & Blooms Festival! Our team will be selling magazines and talking about our new podcast\, River Town!
URL:http://newterritorymag.com/event/new-territory-magazine-and-river-town-podcast-table-at-the-birds-bees-blooms-festival/
LOCATION:The Village of Arrow Rock\, 406 Main St.\, Arrow Rock\, MO\, 65320\, United States
CATEGORIES:Festival
ATTACH;FMTTYPE=image/jpeg:http://newterritorymag.com/wp-content/uploads/2024/04/birdsbeesblooms-scaled.jpeg
END:VEVENT
BEGIN:VEVENT
DTSTART;TZID=America/Chicago:20240421T120000
DTEND;TZID=America/Chicago:20240421T183000
DTSTAMP:20260423T154145
CREATED:20240416T220309Z
LAST-MODIFIED:20240416T220309Z
UID:10538-1713700800-1713724200@newterritorymag.com
SUMMARY:New Territory Magazine and River Town Podcast Table at Columbia Earth Day
DESCRIPTION:Join us at our table for Columbia Earth Day! Our team will be selling magazines and talking about our new podcast\, River Town!
URL:http://newterritorymag.com/event/new-territory-magazine-and-river-town-podcast-table-at-columbia-earth-day/
LOCATION:Peace Park\, Elm Street\, Columbia\, MO\, 65201\, United States
CATEGORIES:Festival
ATTACH;FMTTYPE=image/jpeg:http://newterritorymag.com/wp-content/uploads/2024/04/CoopersLanding_MissouriRiver_RiverTown_Allie-SantiniMissourian.jpg
END:VEVENT
END:VCALENDAR