BEGIN:VCALENDAR
VERSION:2.0
PRODID:-//The New Territory Magazine - ECPv6.15.16//NONSGML v1.0//EN
CALSCALE:GREGORIAN
METHOD:PUBLISH
X-ORIGINAL-URL:http://newterritorymag.com
X-WR-CALDESC:Events for The New Territory Magazine
REFRESH-INTERVAL;VALUE=DURATION:PT1H
X-Robots-Tag:noindex
X-PUBLISHED-TTL:PT1H
BEGIN:VTIMEZONE
TZID:America/Chicago
BEGIN:DAYLIGHT
TZOFFSETFROM:-0600
TZOFFSETTO:-0500
TZNAME:CDT
DTSTART:20240310T080000
END:DAYLIGHT
BEGIN:STANDARD
TZOFFSETFROM:-0500
TZOFFSETTO:-0600
TZNAME:CST
DTSTART:20241103T070000
END:STANDARD
BEGIN:DAYLIGHT
TZOFFSETFROM:-0600
TZOFFSETTO:-0500
TZNAME:CDT
DTSTART:20250309T080000
END:DAYLIGHT
BEGIN:STANDARD
TZOFFSETFROM:-0500
TZOFFSETTO:-0600
TZNAME:CST
DTSTART:20251102T070000
END:STANDARD
BEGIN:DAYLIGHT
TZOFFSETFROM:-0600
TZOFFSETTO:-0500
TZNAME:CDT
DTSTART:20260308T080000
END:DAYLIGHT
BEGIN:STANDARD
TZOFFSETFROM:-0500
TZOFFSETTO:-0600
TZNAME:CST
DTSTART:20261101T070000
END:STANDARD
END:VTIMEZONE
BEGIN:VEVENT
DTSTART;TZID=America/Chicago:20250522T170000
DTEND;TZID=America/Chicago:20250522T200000
DTSTAMP:20260424T072334
CREATED:20250328T155116Z
LAST-MODIFIED:20250521T174355Z
UID:11602-1747933200-1747944000@newterritorymag.com
SUMMARY:Issue 17 Launch Party
DESCRIPTION:Enjoy magazines\, merch\, merriment\, books and other fun with The Raven\, Friends of the Kaw\, and The New Territory Magazine!\nRSVP Here\nFacebook Event \nProgram\nThursday\, May 22\, 2025\n5:00 p.m. – Doors open\, meet & greet with cash bar and snacks\n6:00 p.m. – Welcome and introductions\n6:10 p.m. – Readers: Haines Eason & Kelly Barth\n6:45 p.m. – Program ends\, mix & mingle until 8:00 p.m. \nFood & Drink!\n\n\nWe’ll have a few cheeses\, crackers\, and cookies. GF\, too!\nAbe & Jake’s will provide a cash bar.\n\n\nLearning & Merch\n\n\nThe New Territory will have a merchandise table.\nSo will Friends of the Kaw!\nSo will The Raven Book Store!\n\n\nIt’s like a teeny tiny festival.\nLocation\nAbe & Jake’s Landing\n8 E 6th St\, Lawrence\, KS 66044 \nMeet the Speakers\n \nHaines Eason\nEason is the owner of startup media agency Freelance Kansas. He went into business for himself after a stint as a managing editor on the content marketing team at A Place for Mom. Among many other roles\, he has worked as a communications professional at KU and as a journalist with work in places like The Guardian\, Eater and KANSAS! Magazine. He lives in Lawrence\, Kansas. \n\nKelly Barth\nBarth has received fellowships from the Missouri Arts Council and the Kansas Arts Commission. Her work has been published in anthologies and literary journals. Her memoir\, My Almost Certainly Real Imaginary Jesus\, was published in 2012 by Arktoi Books\, an imprint of Red Hen Press. It was a finalist for the Judy Grahn Award for Lesbian Non-Fiction and named one of the top ten spirituality books of 2012 by the American Library Association. Barth is the co-owner of the Raven Book Store in Lawrence\, Kansas\, where she lives with her wife\, landscape painter\, Lisa Grossman.
URL:http://newterritorymag.com/event/issue-17-launch-party/
LOCATION:Abe & Jake’s Landing\, 8 E 6th St\,\, Lawrence\, KS\, 66044\, United States
CATEGORIES:Party
ATTACH;FMTTYPE=image/png:http://newterritorymag.com/wp-content/uploads/2025/03/Calling-all-lovers-of-writing-art-3.png
END:VEVENT
END:VCALENDAR