BEGIN:VCALENDAR
VERSION:2.0
PRODID:-//The New Territory Magazine - ECPv6.15.16//NONSGML v1.0//EN
CALSCALE:GREGORIAN
METHOD:PUBLISH
X-ORIGINAL-URL:http://newterritorymag.com
X-WR-CALDESC:Events for The New Territory Magazine
REFRESH-INTERVAL;VALUE=DURATION:PT1H
X-Robots-Tag:noindex
X-PUBLISHED-TTL:PT1H
BEGIN:VTIMEZONE
TZID:America/Chicago
BEGIN:DAYLIGHT
TZOFFSETFROM:-0600
TZOFFSETTO:-0500
TZNAME:CDT
DTSTART:20240310T080000
END:DAYLIGHT
BEGIN:STANDARD
TZOFFSETFROM:-0500
TZOFFSETTO:-0600
TZNAME:CST
DTSTART:20241103T070000
END:STANDARD
BEGIN:DAYLIGHT
TZOFFSETFROM:-0600
TZOFFSETTO:-0500
TZNAME:CDT
DTSTART:20250309T080000
END:DAYLIGHT
BEGIN:STANDARD
TZOFFSETFROM:-0500
TZOFFSETTO:-0600
TZNAME:CST
DTSTART:20251102T070000
END:STANDARD
BEGIN:DAYLIGHT
TZOFFSETFROM:-0600
TZOFFSETTO:-0500
TZNAME:CDT
DTSTART:20260308T080000
END:DAYLIGHT
BEGIN:STANDARD
TZOFFSETFROM:-0500
TZOFFSETTO:-0600
TZNAME:CST
DTSTART:20261101T070000
END:STANDARD
END:VTIMEZONE
BEGIN:VEVENT
DTSTART;TZID=America/Chicago:20250531T100000
DTEND;TZID=America/Chicago:20250531T160000
DTSTAMP:20260423T140904
CREATED:20250130T181849Z
LAST-MODIFIED:20250212T205026Z
UID:11536-1748685600-1748707200@newterritorymag.com
SUMMARY:Plein Air Micro Essay Writing with The Story Center
DESCRIPTION:Join The New Territory magazine and The Story Center for a full-day intensive on the micro essay form\, led by Michaella Thornton. Through a series of talks and guided writing prompts\, participants will draw from the natural and cultural history of the Woodneath property to write an essay of 300 words or less and will end the day with a complete working draft. Please note that\, weather permitting\, part of this program will take place outside and will involve using a gravel trail. \nVisit The Story Center website for more information and a link to register.
URL:http://newterritorymag.com/event/plein-air-micro-essay-writing-with-the-story-center/
LOCATION:The Story Center\, 8900 NE Flintlock Road\, Kansas City\, MO\, 64157\, United States
CATEGORIES:Writing Retreat
ATTACH;FMTTYPE=image/jpeg:http://newterritorymag.com/wp-content/uploads/2025/01/plein_air_micro_writing.jpg
END:VEVENT
BEGIN:VEVENT
DTSTART;TZID=America/Chicago:20250222T090000
DTEND;TZID=America/Chicago:20250222T130000
DTSTAMP:20260423T140904
CREATED:20250130T182613Z
LAST-MODIFIED:20250130T182613Z
UID:11542-1740214800-1740229200@newterritorymag.com
SUMMARY:Missouri Women Who Write Winter Retreat
DESCRIPTION:Join Missouri Women Who Write for a retreat at Serendipity Gallery in Columbia\, Mo. on Feb. 22. The morning will have two writing talks\, time to write\, and then lunch. Tina Casagrand Foss\, founder\, publisher\, and editor-in-chief of The New Territory magazine\, will be leading the two sessions on the craft of writing. The focus of this half-day retreat aims to be useful\, rejuvenating\, and supportive for writers of all experience levels and all genres.\n\nThere are 30 seats available for this event; please register for your seat through this Google Forms link.
URL:http://newterritorymag.com/event/missouri-women-who-write-winter-retreat/
LOCATION:Serendipity Salon and Gallery\, 1020 E Walnut St.\, Suite 100\, Columbia\, MO\, 65201\, United States
CATEGORIES:Writing Retreat
ATTACH;FMTTYPE=image/jpeg:http://newterritorymag.com/wp-content/uploads/2025/01/missouri-women-who-write.jpg
ORGANIZER;CN="Missouri Women Who Write":MAILTO:mowomenwhowrite@gmail.com
END:VEVENT
END:VCALENDAR