BEGIN:VCALENDAR
VERSION:2.0
PRODID:-//The New Territory Magazine - ECPv6.15.16//NONSGML v1.0//EN
CALSCALE:GREGORIAN
METHOD:PUBLISH
X-ORIGINAL-URL:https://newterritorymag.com
X-WR-CALDESC:Events for The New Territory Magazine
REFRESH-INTERVAL;VALUE=DURATION:PT1H
X-Robots-Tag:noindex
X-PUBLISHED-TTL:PT1H
BEGIN:VTIMEZONE
TZID:America/Chicago
BEGIN:DAYLIGHT
TZOFFSETFROM:-0600
TZOFFSETTO:-0500
TZNAME:CDT
DTSTART:20250309T080000
END:DAYLIGHT
BEGIN:STANDARD
TZOFFSETFROM:-0500
TZOFFSETTO:-0600
TZNAME:CST
DTSTART:20251102T070000
END:STANDARD
BEGIN:DAYLIGHT
TZOFFSETFROM:-0600
TZOFFSETTO:-0500
TZNAME:CDT
DTSTART:20260308T080000
END:DAYLIGHT
BEGIN:STANDARD
TZOFFSETFROM:-0500
TZOFFSETTO:-0600
TZNAME:CST
DTSTART:20261101T070000
END:STANDARD
BEGIN:DAYLIGHT
TZOFFSETFROM:-0600
TZOFFSETTO:-0500
TZNAME:CDT
DTSTART:20270314T080000
END:DAYLIGHT
BEGIN:STANDARD
TZOFFSETFROM:-0500
TZOFFSETTO:-0600
TZNAME:CST
DTSTART:20271107T070000
END:STANDARD
END:VTIMEZONE
BEGIN:VEVENT
DTSTART;TZID=America/Chicago:20260703T160000
DTEND;TZID=America/Chicago:20260703T183000
DTSTAMP:20260423T151730
CREATED:20260415T150459Z
LAST-MODIFIED:20260417T022938Z
UID:12375-1783094400-1783103400@newterritorymag.com
SUMMARY:Issue 19 Showcase
DESCRIPTION:Join us to celebrate Issue 19 at Boat Town Brewing in Lebanon\, Missouri! \nJoin The New Territory Magazine editors\, contributors\, and friends for an afternoon of readings and celebration! \n \n  \n  \n  \n  \n  \n\nMeet Our Readers\nAmy De La Hunt \nAmy De La Hunt is a journalist\, writer and editor living in the St. Louis metro area\, where she covers dining and restaurants for St. Louis Magazine. She also writes about community development\, education\, and entrepreneurship for a variety of clients and publications across the U.S. She frequently joins her two adult children for adventures as they explore their new home turf in Springfield\, Missouri\, and Olathe\, Kansas. \n  \n  \n  \nDean Klinkenberg \nDean Klinkenberg explores themes of place\, identity\, ambiguity\, and the quiet tensions that linger beneath everyday lives through historical fiction\, essays\, guidebooks\, and noir-inspired fiction. He draws inspiration from travel\, especially the people and places he’s come to know along the Mississippi River\, as well as from his prior professional experiences as a Clinical Psychologist. (In 2006\, he was awarded the Theodore H. Blau Early Career Award for Outstanding Contribution to Professional Clinical Psychology.) He lives in St. Louis with his husband. \n  \nBrooks Blevins \nBrooks Blevins is the Noel Boyd Professor of Ozarks Studies at Missouri State University in Springfield. A native of the Arkansas Ozarks\, he holds a PhD in American History from Auburn University. Blevins is the author or editor of more than a dozen books\, including Ghost of the Ozarks: Murder and Memory in the Upland South and the three-volume A History of the Ozarks. His podcast\, The Old Ozarks\, returns for a second season in July 2026.
URL:https://newterritorymag.com/event/issue-19-showcase/
LOCATION:Boat Town Brewing\, 214 W Commercial St\, Lebanon\, MO\, 65536\, United States
ATTACH;FMTTYPE=image/png:https://newterritorymag.com/wp-content/uploads/2026/04/Issue-19-launch-party.png
END:VEVENT
END:VCALENDAR